BEGIN:VCALENDAR
VERSION:2.0
PRODID:-//Michael Angstadt//biweekly 0.6.8//EN
BEGIN:VTIMEZONE
TZID:Europe/Berlin
LAST-MODIFIED:20260306T231828Z
TZURL:https://www.tzurl.org/zoneinfo/Europe/Berlin
X-LIC-LOCATION:Europe/Berlin
X-PROLEPTIC-TZNAME:LMT
BEGIN:STANDARD
TZNAME:CET
TZOFFSETFROM:+0053
TZOFFSETTO:+0100
DTSTART:18930401T000000
END:STANDARD
BEGIN:STANDARD
TZNAME:CET
TZOFFSETFROM:+0200
TZOFFSETTO:+0100
DTSTART:19161001T010000
RDATE:19421102T030000
RDATE:19431004T030000
RDATE:19441002T030000
RDATE:19451118T030000
RDATE:19461007T030000
END:STANDARD
BEGIN:STANDARD
TZNAME:CET
TZOFFSETFROM:+0200
TZOFFSETTO:+0100
DTSTART:19170917T030000
RRULE:FREQ=YEARLY;UNTIL=19180916T010000Z;BYDAY=3MO;BYMONTH=9
END:STANDARD
BEGIN:STANDARD
TZNAME:CET
TZOFFSETFROM:+0100
TZOFFSETTO:+0100
DTSTART:19460101T000000
RDATE:19800101T000000
END:STANDARD
BEGIN:STANDARD
TZNAME:CET
TZOFFSETFROM:+0200
TZOFFSETTO:+0100
DTSTART:19471005T030000
RRULE:FREQ=YEARLY;UNTIL=19491002T010000Z;BYDAY=1SU;BYMONTH=10
END:STANDARD
BEGIN:STANDARD
TZNAME:CET
TZOFFSETFROM:+0200
TZOFFSETTO:+0100
DTSTART:19800928T030000
RRULE:FREQ=YEARLY;UNTIL=19950924T010000Z;BYDAY=-1SU;BYMONTH=9
END:STANDARD
BEGIN:STANDARD
TZNAME:CET
TZOFFSETFROM:+0200
TZOFFSETTO:+0100
DTSTART:19961027T030000
RRULE:FREQ=YEARLY;BYDAY=-1SU;BYMONTH=10
END:STANDARD
BEGIN:DAYLIGHT
TZNAME:CEST
TZOFFSETFROM:+0100
TZOFFSETTO:+0200
DTSTART:19160430T230000
RDATE:19400401T020000
RDATE:19430329T020000
RDATE:19460414T020000
RDATE:19470406T030000
RDATE:19480418T020000
RDATE:19490410T020000
RDATE:19800406T020000
END:DAYLIGHT
BEGIN:DAYLIGHT
TZNAME:CEST
TZOFFSETFROM:+0100
TZOFFSETTO:+0200
DTSTART:19170416T020000
RRULE:FREQ=YEARLY;UNTIL=19180415T010000Z;BYDAY=3MO;BYMONTH=4
END:DAYLIGHT
BEGIN:DAYLIGHT
TZNAME:CEST
TZOFFSETFROM:+0100
TZOFFSETTO:+0200
DTSTART:19440403T020000
RRULE:FREQ=YEARLY;UNTIL=19450402T010000Z;BYDAY=1MO;BYMONTH=4
END:DAYLIGHT
BEGIN:DAYLIGHT
TZNAME:CEMT
TZOFFSETFROM:+0200
TZOFFSETTO:+0300
DTSTART:19450524T020000
RDATE:19470511T030000
END:DAYLIGHT
BEGIN:DAYLIGHT
TZNAME:CEST
TZOFFSETFROM:+0300
TZOFFSETTO:+0200
DTSTART:19450924T030000
RDATE:19470629T030000
END:DAYLIGHT
BEGIN:DAYLIGHT
TZNAME:CEST
TZOFFSETFROM:+0100
TZOFFSETTO:+0200
DTSTART:19810329T020000
RRULE:FREQ=YEARLY;BYDAY=-1SU;BYMONTH=3
END:DAYLIGHT
END:VTIMEZONE
BEGIN:VEVENT
UID:a2e44c30-dcea-4814-8f65-d74a734906ee
DTSTAMP:20260421T025245Z
SUMMARY;LANGUAGE=de:Rehe I
LOCATION:Rehe
DTSTART;VALUE=DATE:20210423
DTEND;VALUE=DATE:20210426
URL:https://www.cgw-rehe.de/
DESCRIPTION:zur Anmeldung: http://anmeldung.onkelwernerfreizeiten.de
END:VEVENT
BEGIN:VEVENT
UID:2d31c78b-9203-40f1-9d49-e306d2346e1b
DTSTAMP:20260421T025245Z
SUMMARY;LANGUAGE=de:Rehe II
LOCATION:Rehe
DTSTART;VALUE=DATE:20210618
DTEND;VALUE=DATE:20210621
URL:https://www.cgw-rehe.de/
DESCRIPTION:zur Anmeldung: http://anmeldung.onkelwernerfreizeiten.de
END:VEVENT
BEGIN:VEVENT
UID:f036bb79-2d2c-4fd4-8451-281e721dc61f
DTSTAMP:20260421T025245Z
SUMMARY;LANGUAGE=de:Olfen I
LOCATION:Olfen
DTSTART;VALUE=DATE:20210522
DTEND;VALUE=DATE:20210530
URL:https://www.freizeitheim-olfen.de/index.php/startseite.html
DESCRIPTION:zur Anmeldung: http://anmeldung.onkelwernerfreizeiten.de
END:VEVENT
BEGIN:VEVENT
UID:5c31d0cc-1a27-45f0-8f1c-b880272ab091
DTSTAMP:20260421T025245Z
SUMMARY;LANGUAGE=de:Olfen II
LOCATION:Olfen
DTSTART;VALUE=DATE:20211030
DTEND;VALUE=DATE:20211107
URL:https://www.freizeitheim-olfen.de/index.php/startseite.html
DESCRIPTION:zur Anmeldung: http://anmeldung.onkelwernerfreizeiten.de
END:VEVENT
BEGIN:VEVENT
UID:7e7cb9fb-10e6-421d-b700-9fb8b51f8b38
DTSTAMP:20260421T025245Z
SUMMARY;LANGUAGE=de:Mitarbeiterfreizeit
LOCATION:Herrischried
DTSTART;VALUE=DATE:20211001
DTEND;VALUE=DATE:20211004
URL:http://jugendgaestehaus.de/
DESCRIPTION:zur Anmeldung: http://anmeldung.onkelwernerfreizeiten.de
END:VEVENT
BEGIN:VEVENT
UID:9c056077-7add-4668-ae91-c0da917cf4bc
DTSTAMP:20260421T025245Z
SUMMARY;LANGUAGE=de:Heimfreizeit
LOCATION:ECG Heilbronn
DTSTART;VALUE=DATE:20210830
DTEND;VALUE=DATE:20210911
URL:https://de.wikipedia.org/wiki/Kreuzkirche_(Heilbronn)
DESCRIPTION:zur Anmeldung: http://anmeldung.onkelwernerfreizeiten.de
END:VEVENT
BEGIN:VEVENT
UID:cb4fee09-7af3-4123-ae51-930571c08ade
DTSTAMP:20260421T025245Z
SUMMARY;LANGUAGE=de:Schweiz
LOCATION:Kiental
DTSTART;VALUE=DATE:20210731
DTEND;VALUE=DATE:20210815
URL:https://www.groups.swiss/de/leisure/Ferienhaus-Bergfrieden-Kiental-148
DESCRIPTION:zur Anmeldung: http://anmeldung.onkelwernerfreizeiten.de
END:VEVENT
BEGIN:VEVENT
UID:61af9c83-77bc-450c-97d7-1edfc75f1c76
DTSTAMP:20260421T025245Z
SUMMARY;LANGUAGE=de:Herbstfreizeit
LOCATION:Hohenhaslach
DTSTART;VALUE=DATE:20211030
DTEND;VALUE=DATE:20211107
URL:https://cvjm-hohenhaslach.de/jugendhaus/
DESCRIPTION:zur Anmeldung: http://anmeldung.onkelwernerfreizeiten.de
END:VEVENT
BEGIN:VEVENT
UID:df65e675-ca8b-48e5-9e9f-3d7dd143043a
DTSTAMP:20260421T025245Z
SUMMARY;LANGUAGE=de:Schweizfreizeit
LOCATION:Kiental
DTSTART;VALUE=DATE:20220730
DTEND;VALUE=DATE:20220814
URL:https://www.groups.swiss/de/leisure/Ferienhaus-Bergfrieden-Kiental-148
DESCRIPTION:zur Anmeldung: http://anmeldung.onkelwernerfreizeiten.de
END:VEVENT
BEGIN:VEVENT
UID:3727309f-e795-4791-9ef1-c82664ce0847
DTSTAMP:20260421T025245Z
SUMMARY;LANGUAGE=de:Rehe I
LOCATION:Rehe
DTSTART;VALUE=DATE:20220128
DTEND;VALUE=DATE:20220131
URL:https://www.cgw-rehe.de/
DESCRIPTION:zur Anmeldung: http://anmeldung.onkelwernerfreizeiten.de
END:VEVENT
BEGIN:VEVENT
UID:141fa762-1cbc-406a-b711-3199fe38d905
DTSTAMP:20260421T025245Z
SUMMARY;LANGUAGE=de:Rehe II
LOCATION:Rehe
DTSTART;VALUE=DATE:20220312
DTEND;VALUE=DATE:20220314
URL:https://www.cgw-rehe.de/
DESCRIPTION:zur Anmeldung: http://anmeldung.onkelwernerfreizeiten.de
END:VEVENT
BEGIN:VEVENT
UID:9d3d0a4f-ba6d-44d6-a7ba-7223072798d4
DTSTAMP:20260421T025245Z
SUMMARY;LANGUAGE=de:Olfen Ostern
LOCATION:Olfen
DTSTART;VALUE=DATE:20220417
DTEND;VALUE=DATE:20220424
URL:https://www.freizeitheim-olfen.de/index.php/startseite.html
DESCRIPTION:zur Anmeldung: http://anmeldung.onkelwernerfreizeiten.de
END:VEVENT
BEGIN:VEVENT
UID:2c57df33-af4a-40c0-a722-56fc80bb2bde
DTSTAMP:20260421T025245Z
SUMMARY;LANGUAGE=de:Hohenhaslach Herbst
LOCATION:Hohenhaslach
DTSTART;VALUE=DATE:20221029
DTEND;VALUE=DATE:20221106
URL:https://cvjm-hohenhaslach.de/jugendhaus/
DESCRIPTION:zur Anmeldung: http://anmeldung.onkelwernerfreizeiten.de
END:VEVENT
BEGIN:VEVENT
UID:9777ad94-0b9d-49ff-8a4d-18b692e89f14
DTSTAMP:20260421T025245Z
SUMMARY;LANGUAGE=de:Hohenhaslach
LOCATION:Hohenhaslach
DTSTART;VALUE=DATE:20231028
DTEND;VALUE=DATE:20231105
URL:https://cvjm-hohenhaslach.de/jugendhaus/
DESCRIPTION:zur Anmeldung: http://anmeldung.onkelwernerfreizeiten.de
END:VEVENT
BEGIN:VEVENT
UID:eda74f17-fb0f-46e2-a553-f7928b84626e
DTSTAMP:20260421T025245Z
SUMMARY;LANGUAGE=de:Rehe II
LOCATION:Rehe
DTSTART;VALUE=DATE:20230616
DTEND;VALUE=DATE:20230619
URL:https://www.cgw-rehe.de/
DESCRIPTION:zur Anmeldung: http://anmeldung.onkelwernerfreizeiten.de
END:VEVENT
BEGIN:VEVENT
UID:6579d5a0-2aca-40cc-aa1b-8a4ac57141c3
DTSTAMP:20260421T025245Z
SUMMARY;LANGUAGE=de:Heimfreizeit
LOCATION:ECG Heilbronn
DTSTART;VALUE=DATE:20220829
DTEND;VALUE=DATE:20220913
URL:https://de.wikipedia.org/wiki/Kreuzkirche_(Heilbronn)
DESCRIPTION:zur Anmeldung: http://anmeldung.onkelwernerfreizeiten.de
END:VEVENT
BEGIN:VEVENT
UID:2c158484-b24b-494d-9e30-1ae9d3b8bcf0
DTSTAMP:20260421T025245Z
SUMMARY;LANGUAGE=de:Schweizfreizeit
LOCATION:Kiental
DTSTART;VALUE=DATE:20230729
DTEND;VALUE=DATE:20230813
URL:https://www.groups.swiss/de/leisure/Ferienhaus-Bergfrieden-Kiental-148
DESCRIPTION:zur Anmeldung: http://anmeldung.onkelwernerfreizeiten.de
END:VEVENT
BEGIN:VEVENT
UID:2af09cca-f9cc-4e1f-b322-0438e7931004
DTSTAMP:20260421T025245Z
SUMMARY;LANGUAGE=de:Olfen Ostern
LOCATION:Olfen
DTSTART;VALUE=DATE:20230409
DTEND;VALUE=DATE:20230416
URL:https://www.freizeitheim-olfen.de/index.php/startseite.html
DESCRIPTION:zur Anmeldung: http://anmeldung.onkelwernerfreizeiten.de
END:VEVENT
BEGIN:VEVENT
UID:f105fc16-8f0a-473e-8534-763f78c969fd
DTSTAMP:20260421T025245Z
SUMMARY;LANGUAGE=de:Mitarbeiterfreizeit
LOCATION:Harthausen
DTSTART;VALUE=DATE:20230707
DTEND;VALUE=DATE:20230710
URL:https://evang-gemeinde-dudenhofen.de/locations/brunnenhof/
DESCRIPTION:zur Anmeldung: http://anmeldung.onkelwernerfreizeiten.de
END:VEVENT
BEGIN:VEVENT
UID:252cc22c-594d-435d-b088-9b386caf3d74
DTSTAMP:20260421T025245Z
SUMMARY;LANGUAGE=de:Grow Up
LOCATION:Olfen
DTSTART;VALUE=DATE:20230218
DTEND;VALUE=DATE:20230226
URL:https://www.freizeitheim-olfen.de/index.php/startseite.html
DESCRIPTION:zur Anmeldung: http://anmeldung.onkelwernerfreizeiten.de
END:VEVENT
BEGIN:VEVENT
UID:69f56597-3017-4e8d-b8dc-b8b1fb229142
DTSTAMP:20260421T025245Z
SUMMARY;LANGUAGE=de:Grow Up
LOCATION:Olfen
DTSTART;VALUE=DATE:20220226
DTEND;VALUE=DATE:20220306
URL:https://www.freizeitheim-olfen.de/index.php/startseite.html
DESCRIPTION:zur Anmeldung: http://anmeldung.onkelwernerfreizeiten.de
END:VEVENT
BEGIN:VEVENT
UID:18fccb15-51c6-4a0e-8ef6-07f3c38375bc
DTSTAMP:20260421T025245Z
SUMMARY;LANGUAGE=de:Mitarbeiterfreizeit (verschoben)
LOCATION:Dornburg
DTSTART;VALUE=DATE:20220930
DTEND;VALUE=DATE:20221004
URL:https://www.gruppenfreizeiten.de/jugendhaus-dornburg-dornburg#uebersich
 t
DESCRIPTION:zur Anmeldung: http://anmeldung.onkelwernerfreizeiten.de
END:VEVENT
BEGIN:VEVENT
UID:4b4a80cc-c6e9-45dc-a07e-05b021af03f1
DTSTAMP:20260421T025245Z
SUMMARY;LANGUAGE=de:Heimfreizeit
LOCATION:ECG Heilbronn
DTSTART;VALUE=DATE:20230828
DTEND;VALUE=DATE:20230911
URL:https://de.wikipedia.org/wiki/Kreuzkirche_(Heilbronn)
DESCRIPTION:zur Anmeldung: http://anmeldung.onkelwernerfreizeiten.de
END:VEVENT
BEGIN:VEVENT
UID:c00f315b-72b6-42da-9218-3b323b83ec77
DTSTAMP:20260421T025245Z
SUMMARY;LANGUAGE=de:Grow-Up
LOCATION:Olfen
DTSTART;VALUE=DATE:20240331
DTEND;VALUE=DATE:20240407
URL:https://www.freizeitheim-olfen.de/index.php/startseite.html
DESCRIPTION:zur Anmeldung: http://anmeldung.onkelwernerfreizeiten.de
END:VEVENT
BEGIN:VEVENT
UID:0b5b9070-1ce9-4ff1-be6b-796ed476da6d
DTSTAMP:20260421T025245Z
SUMMARY;LANGUAGE=de:Mitarbeiterfreizeit
LOCATION:Alte Schule Anspach
DTSTART;VALUE=DATE:20241011
DTEND;VALUE=DATE:20241014
URL:https://basa.de/tagungshaus/
DESCRIPTION:zur Anmeldung: http://anmeldung.onkelwernerfreizeiten.de
END:VEVENT
BEGIN:VEVENT
UID:a3b7dcca-c5f3-4840-af9c-c23afb302fe0
DTSTAMP:20260421T025245Z
SUMMARY;LANGUAGE=de:Olfen Herbst
LOCATION:Olfen
DTSTART;VALUE=DATE:20231028
DTEND;VALUE=DATE:20231105
URL:https://www.freizeitheim-olfen.de/index.php/startseite.html
DESCRIPTION:zur Anmeldung: http://anmeldung.onkelwernerfreizeiten.de
END:VEVENT
BEGIN:VEVENT
UID:e288bd1f-ee45-492b-855f-3d6f4af36dcb
DTSTAMP:20260421T025245Z
SUMMARY;LANGUAGE=de:Rehe
LOCATION:Rehe
DTSTART;VALUE=DATE:20240607
DTEND;VALUE=DATE:20240610
URL:https://www.cgw-rehe.de/
DESCRIPTION:zur Anmeldung: http://anmeldung.onkelwernerfreizeiten.de
END:VEVENT
BEGIN:VEVENT
UID:c6df4db4-40a5-420b-95f4-da265cbb8033
DTSTAMP:20260421T025245Z
SUMMARY;LANGUAGE=de:Schweizfreizeit
LOCATION:Kiental
DTSTART;VALUE=DATE:20240727
DTEND;VALUE=DATE:20240811
URL:https://www.groups.swiss/de/leisure/Ferienhaus-Bergfrieden-Kiental-148
DESCRIPTION:zur Anmeldung: http://anmeldung.onkelwernerfreizeiten.de
END:VEVENT
BEGIN:VEVENT
UID:a9cd5087-7934-4e4c-b1c4-69c5cdd7c86a
DTSTAMP:20260421T025245Z
SUMMARY;LANGUAGE=de:Heimfreizeit
LOCATION:ECG Heilbronn
DTSTART;VALUE=DATE:20240826
DTEND;VALUE=DATE:20240907
URL:https://de.wikipedia.org/wiki/Kreuzkirche_(Heilbronn)
DESCRIPTION:zur Anmeldung: http://anmeldung.onkelwernerfreizeiten.de
END:VEVENT
BEGIN:VEVENT
UID:bb790933-723c-41f8-83f1-78830fc52047
DTSTAMP:20260421T025245Z
SUMMARY;LANGUAGE=de:Schweizfreizeit
LOCATION:Kiental
DTSTART;VALUE=DATE:20250802
DTEND;VALUE=DATE:20250817
URL:https://www.groups.swiss/de/leisure/Ferienhaus-Bergfrieden-Kiental-148
DESCRIPTION:zur Anmeldung: http://anmeldung.onkelwernerfreizeiten.de
END:VEVENT
BEGIN:VEVENT
UID:4226f038-9640-4f7a-b5e0-bce70aede054
DTSTAMP:20260421T025245Z
SUMMARY;LANGUAGE=de:Olfen Grow Up
LOCATION:Olfen
DTSTART;VALUE=DATE:20250412
DTEND;VALUE=DATE:20250420
URL:https://www.freizeitheim-olfen.de/index.php/startseite.html
DESCRIPTION:zur Anmeldung: http://anmeldung.onkelwernerfreizeiten.de
END:VEVENT
BEGIN:VEVENT
UID:83860204-075d-4e5a-b0be-e79529063ee6
DTSTAMP:20260421T025245Z
SUMMARY;LANGUAGE=de:Heimfreizeit
LOCATION:ECG Heilbronn
DTSTART;VALUE=DATE:20250901
DTEND;VALUE=DATE:20250913
URL:https://de.wikipedia.org/wiki/Kreuzkirche_(Heilbronn)
DESCRIPTION:zur Anmeldung: http://anmeldung.onkelwernerfreizeiten.de
END:VEVENT
BEGIN:VEVENT
UID:b7b0fd1c-6903-4460-bd04-61a4e1fb5298
DTSTAMP:20260421T025245Z
SUMMARY;LANGUAGE=de:Hohenhaslach
LOCATION:Hohenhaslach
DTSTART;VALUE=DATE:20241026
DTEND;VALUE=DATE:20241103
URL:https://cvjm-hohenhaslach.de/jugendhaus/
DESCRIPTION:zur Anmeldung: http://anmeldung.onkelwernerfreizeiten.de
END:VEVENT
BEGIN:VEVENT
UID:8df598cc-66b9-4603-9d95-aa3ddf5a38bd
DTSTAMP:20260421T025245Z
SUMMARY;LANGUAGE=de:Rehe
LOCATION:Rehe
DTSTART;VALUE=DATE:20250627
DTEND;VALUE=DATE:20250630
URL:https://www.cgw-rehe.de/
DESCRIPTION:zur Anmeldung: http://anmeldung.onkelwernerfreizeiten.de
END:VEVENT
BEGIN:VEVENT
UID:5d6d6f39-710a-4db0-a2bd-7e3e534b88dc
DTSTAMP:20260421T025245Z
SUMMARY;LANGUAGE=de:Olfen Herbst
LOCATION:Olfen
DTSTART;VALUE=DATE:20241026
DTEND;VALUE=DATE:20241103
URL:https://www.freizeitheim-olfen.de/index.php/startseite.html
DESCRIPTION:zur Anmeldung: http://anmeldung.onkelwernerfreizeiten.de
END:VEVENT
BEGIN:VEVENT
UID:ec07cc1d-9992-4737-bece-3923e2b928ee
DTSTAMP:20260421T025245Z
SUMMARY;LANGUAGE=de:Olfen Herbst
LOCATION:Olfen
DTSTART;VALUE=DATE:20251025
DTEND;VALUE=DATE:20251102
URL:https://www.freizeitheim-olfen.de/index.php/startseite.html
DESCRIPTION:zur Anmeldung: http://anmeldung.onkelwernerfreizeiten.de
END:VEVENT
BEGIN:VEVENT
UID:d0772698-f64b-4706-ad09-1efb320b082e
DTSTAMP:20260421T025245Z
SUMMARY;LANGUAGE=de:Olfen Herbst
LOCATION:Olfen
DTSTART;VALUE=DATE:20221029
DTEND;VALUE=DATE:20221106
URL:https://www.freizeitheim-olfen.de/index.php/startseite.html
DESCRIPTION:zur Anmeldung: http://anmeldung.onkelwernerfreizeiten.de
END:VEVENT
BEGIN:VEVENT
UID:b77b3821-7cdb-43aa-88ca-87315130d214
DTSTAMP:20260421T025245Z
SUMMARY;LANGUAGE=de:Heimfreizeit
LOCATION:ECG Heilbronn
DTSTART;VALUE=DATE:20260831
DTEND;VALUE=DATE:20260912
URL:https://de.wikipedia.org/wiki/Kreuzkirche_(Heilbronn)
DESCRIPTION:zur Anmeldung: http://anmeldung.onkelwernerfreizeiten.de
END:VEVENT
BEGIN:VEVENT
UID:83d3170f-5385-4afa-b0e5-0c61bf43fc85
DTSTAMP:20260421T025245Z
SUMMARY;LANGUAGE=de:Hohenhaslach
LOCATION:Hohenhaslach
DTSTART;VALUE=DATE:20251025
DTEND;VALUE=DATE:20251102
URL:https://cvjm-hohenhaslach.de/jugendhaus/
DESCRIPTION:zur Anmeldung: http://anmeldung.onkelwernerfreizeiten.de
END:VEVENT
BEGIN:VEVENT
UID:7b3bfef2-6e5c-49c1-845d-237ace0542bb
DTSTAMP:20260421T025245Z
SUMMARY;LANGUAGE=de:Olfen Ostern
LOCATION:Olfen
DTSTART;VALUE=DATE:20250419
DTEND;VALUE=DATE:20250426
URL:https://www.freizeitheim-olfen.de/index.php/startseite.html
DESCRIPTION:zur Anmeldung: http://anmeldung.onkelwernerfreizeiten.de
END:VEVENT
BEGIN:VEVENT
UID:b941ad05-3b4f-4cc3-9d9f-2278dca7e66f
DTSTAMP:20260421T025245Z
SUMMARY;LANGUAGE=de:Olfen Ostern
LOCATION:Olfen
DTSTART;VALUE=DATE:20240323
DTEND;VALUE=DATE:20240331
URL:https://www.freizeitheim-olfen.de/index.php/startseite.html
DESCRIPTION:zur Anmeldung: http://anmeldung.onkelwernerfreizeiten.de
END:VEVENT
BEGIN:VEVENT
UID:40dc21b0-76ce-4ec8-b9cf-ffe9d370c7aa
DTSTAMP:20260421T025245Z
SUMMARY;LANGUAGE=de:Hohenhaslach
LOCATION:Hohenhaslach
DTSTART;VALUE=DATE:20271030
DTEND;VALUE=DATE:20271107
URL:https://cvjm-hohenhaslach.de/jugendhaus/
DESCRIPTION:zur Anmeldung: http://anmeldung.onkelwernerfreizeiten.de
END:VEVENT
BEGIN:VEVENT
UID:81b972cd-7c1f-4175-ad2f-aa0d4c73d93b
DTSTAMP:20260421T025245Z
SUMMARY;LANGUAGE=de:Schweizfreizeit
LOCATION:Adelboden
DTSTART;VALUE=DATE:20270731
DTEND;VALUE=DATE:20270815
URL:https://trachselag.ch/web/haus-1/
DESCRIPTION:zur Anmeldung: http://anmeldung.onkelwernerfreizeiten.de
END:VEVENT
BEGIN:VEVENT
UID:2f1fc522-8aa8-498b-ba4f-f88ce5a14a94
DTSTAMP:20260421T025245Z
SUMMARY;LANGUAGE=de:Olfen Herbst
LOCATION:Olfen
DTSTART;VALUE=DATE:20261024
DTEND;VALUE=DATE:20261101
URL:https://www.freizeitheim-olfen.de/index.php/startseite.html
DESCRIPTION:zur Anmeldung: http://anmeldung.onkelwernerfreizeiten.de
END:VEVENT
BEGIN:VEVENT
UID:14bc9084-7d7a-46a7-bd43-400be9d7d5f3
DTSTAMP:20260421T025245Z
SUMMARY;LANGUAGE=de:Rehe
LOCATION:Rehe
DTSTART;VALUE=DATE:20260626
DTEND;VALUE=DATE:20260629
URL:https://www.cgw-rehe.de/
DESCRIPTION:zur Anmeldung: http://anmeldung.onkelwernerfreizeiten.de
END:VEVENT
BEGIN:VEVENT
UID:35fc9bb8-dd38-4c79-a140-1cfdd77f4ea0
DTSTAMP:20260421T025245Z
SUMMARY;LANGUAGE=de:Hohenhaslach
LOCATION:Hohenhaslach
DTSTART;VALUE=DATE:20261024
DTEND;VALUE=DATE:20261101
URL:https://cvjm-hohenhaslach.de/jugendhaus/
DESCRIPTION:zur Anmeldung: http://anmeldung.onkelwernerfreizeiten.de
END:VEVENT
BEGIN:VEVENT
UID:53bd89bb-1e3f-407e-adf7-be73b0456b7a
DTSTAMP:20260421T025245Z
SUMMARY;LANGUAGE=de:Grow Up
LOCATION:Olfen
DTSTART;VALUE=DATE:20260328
DTEND;VALUE=DATE:20260405
URL:https://www.freizeitheim-olfen.de/index.php/startseite.html
DESCRIPTION:zur Anmeldung: http://anmeldung.onkelwernerfreizeiten.de
END:VEVENT
BEGIN:VEVENT
UID:f544e337-4a76-49bf-97b9-98fb28592f9f
DTSTAMP:20260421T025245Z
SUMMARY;LANGUAGE=de:Schweizfreizeit
LOCATION:Kiental
DTSTART;VALUE=DATE:20260801
DTEND;VALUE=DATE:20260816
URL:https://www.groups.swiss/de/leisure/Ferienhaus-Bergfrieden-Kiental-148
DESCRIPTION:zur Anmeldung: http://anmeldung.onkelwernerfreizeiten.de
END:VEVENT
BEGIN:VEVENT
UID:710a7173-defb-4247-9afb-5581bb280914
DTSTAMP:20260421T025245Z
SUMMARY;LANGUAGE=de:Olfen Ostern
LOCATION:Olfen
DTSTART;VALUE=DATE:20260405
DTEND;VALUE=DATE:20260412
URL:https://www.freizeitheim-olfen.de/index.php/startseite.html
DESCRIPTION:zur Anmeldung: http://anmeldung.onkelwernerfreizeiten.de
END:VEVENT
BEGIN:VEVENT
UID:29348987-55ba-4261-a1aa-a9ff6f11091d
DTSTAMP:20260421T025245Z
SUMMARY;LANGUAGE=de:Olfen Ostern
LOCATION:Olfen
DTSTART;VALUE=DATE:20270327
DTEND;VALUE=DATE:20270404
URL:https://www.freizeitheim-olfen.de/index.php/startseite.html
DESCRIPTION:zur Anmeldung: http://anmeldung.onkelwernerfreizeiten.de
END:VEVENT
BEGIN:VEVENT
UID:15e485ea-b5d6-48c1-89e4-b41e38001bc2
DTSTAMP:20260421T025245Z
SUMMARY;LANGUAGE=de:Rehe
LOCATION:Rehe
DTSTART;VALUE=DATE:20270604
DTEND;VALUE=DATE:20270607
URL:https://www.cgw-rehe.de/
DESCRIPTION:zur Anmeldung: http://anmeldung.onkelwernerfreizeiten.de
END:VEVENT
BEGIN:VEVENT
UID:757f4ccc-d798-45fa-bf65-c0e6537957a4
DTSTAMP:20260421T025245Z
SUMMARY;LANGUAGE=de:Heimfreizeit
LOCATION:ECG Heilbronn
DTSTART;VALUE=DATE:20270830
DTEND;VALUE=DATE:20270911
URL:https://de.wikipedia.org/wiki/Kreuzkirche_(Heilbronn)
DESCRIPTION:zur Anmeldung: http://anmeldung.onkelwernerfreizeiten.de
END:VEVENT
BEGIN:VEVENT
UID:5bb6f37e-703e-4059-93ce-1e6c12273e83
DTSTAMP:20260421T025245Z
SUMMARY;LANGUAGE=de:Olfen Herbst
LOCATION:Olfen
DTSTART;VALUE=DATE:20271030
DTEND;VALUE=DATE:20271107
URL:https://www.freizeitheim-olfen.de/index.php/startseite.html
DESCRIPTION:zur Anmeldung: http://anmeldung.onkelwernerfreizeiten.de
END:VEVENT
END:VCALENDAR
